BEGIN:VCALENDAR
VERSION:2.0
PRODID:-//Friends of Schmeeckle Reserve - ECPv6.15.20//NONSGML v1.0//EN
CALSCALE:GREGORIAN
METHOD:PUBLISH
X-WR-CALNAME:Friends of Schmeeckle Reserve
X-ORIGINAL-URL:https://friendsofschmeeckle.org
X-WR-CALDESC:Events for Friends of Schmeeckle Reserve
REFRESH-INTERVAL;VALUE=DURATION:PT1H
X-Robots-Tag:noindex
X-PUBLISHED-TTL:PT1H
BEGIN:VTIMEZONE
TZID:America/Chicago
BEGIN:DAYLIGHT
TZOFFSETFROM:-0600
TZOFFSETTO:-0500
TZNAME:CDT
DTSTART:20250309T080000
END:DAYLIGHT
BEGIN:STANDARD
TZOFFSETFROM:-0500
TZOFFSETTO:-0600
TZNAME:CST
DTSTART:20251102T070000
END:STANDARD
BEGIN:DAYLIGHT
TZOFFSETFROM:-0600
TZOFFSETTO:-0500
TZNAME:CDT
DTSTART:20260308T080000
END:DAYLIGHT
BEGIN:STANDARD
TZOFFSETFROM:-0500
TZOFFSETTO:-0600
TZNAME:CST
DTSTART:20261101T070000
END:STANDARD
BEGIN:DAYLIGHT
TZOFFSETFROM:-0600
TZOFFSETTO:-0500
TZNAME:CDT
DTSTART:20270314T080000
END:DAYLIGHT
BEGIN:STANDARD
TZOFFSETFROM:-0500
TZOFFSETTO:-0600
TZNAME:CST
DTSTART:20271107T070000
END:STANDARD
END:VTIMEZONE
BEGIN:VEVENT
DTSTART;TZID=America/Chicago:20260425T140000
DTEND;TZID=America/Chicago:20260425T150000
DTSTAMP:20260423T082134
CREATED:20260227T201345Z
LAST-MODIFIED:20260227T214054Z
UID:4839-1777125600-1777129200@friendsofschmeeckle.org
SUMMARY:EcoPoetry: Putting Words to Wonder
DESCRIPTION:Do you find inspiration in nature? If you enjoy writing\, reading a good poem\, or just spending time outside\, come along to bridge the gap between words and wonder via an interactive\, poetry-filled hike around Schmeeckle. Please dress for the weather. Presented by Kevin Norris.
URL:https://friendsofschmeeckle.org/event/ecopoetry-putting-words-to-wonder/
LOCATION:Menzel Pavilion\, 2419 North Point Drive\, Stevens Point\, Wisconsin\, Schmeeckle Reserve\, United States
CATEGORIES:Family Nature Programs
ATTACH;FMTTYPE=image/jpeg:https://friendsofschmeeckle.org/wp-content/uploads/2026/02/EcoPoetry.jpg
END:VEVENT
BEGIN:VEVENT
DTSTART;TZID=America/Chicago:20260426T090000
DTEND;TZID=America/Chicago:20260426T123000
DTSTAMP:20260423T082134
CREATED:20260220T231513Z
LAST-MODIFIED:20260227T204746Z
UID:4783-1777194000-1777206600@friendsofschmeeckle.org
SUMMARY:Celebrate Earth Week at Schmeeckle
DESCRIPTION:We need your help to plant trees and shrubs donated by the Friends of Schmeeckle Reserve! Or join us on a litter pickup to tidy up the entire Reserve.Pre-registration is not required. Check-in and registration begins at 9 a.m. at the visitor center at 2419 North Point Drive. \n\n\n\nWhat to bring and things to know: \n\n\n\n\nDress for the weather! \n\n\n\nWear close-toed shoes and clothes that can get dirty. \n\n\n\nBring along a water bottle. \n\n\n\nWork gloves will be provided or bring your own.\n\n\n\n\nIf you have questions\, contact Melissa Ruether\, Schmeeckle Reserve outreach coordinator\, at schmeeckle@uwsp.edu or 715-346-4992.
URL:https://friendsofschmeeckle.org/event/celebrate-earth-week-at-schmeeckle-2/
ATTACH;FMTTYPE=image/jpeg:https://friendsofschmeeckle.org/wp-content/uploads/2026/02/IMG_1045.jpg
END:VEVENT
END:VCALENDAR